BEGIN:VCALENDAR
VERSION:2.0
PRODID:-//Blaskapelle Lengfeld - ECPv6.15.20//NONSGML v1.0//EN
CALSCALE:GREGORIAN
METHOD:PUBLISH
X-ORIGINAL-URL:https://blaskapelle-lengfeld.de
X-WR-CALDESC:Veranstaltungen für Blaskapelle Lengfeld
REFRESH-INTERVAL;VALUE=DURATION:PT1H
X-Robots-Tag:noindex
X-PUBLISHED-TTL:PT1H
BEGIN:VTIMEZONE
TZID:Europe/Berlin
BEGIN:DAYLIGHT
TZOFFSETFROM:+0100
TZOFFSETTO:+0200
TZNAME:CEST
DTSTART:20250330T010000
END:DAYLIGHT
BEGIN:STANDARD
TZOFFSETFROM:+0200
TZOFFSETTO:+0100
TZNAME:CET
DTSTART:20251026T010000
END:STANDARD
BEGIN:DAYLIGHT
TZOFFSETFROM:+0100
TZOFFSETTO:+0200
TZNAME:CEST
DTSTART:20260329T010000
END:DAYLIGHT
BEGIN:STANDARD
TZOFFSETFROM:+0200
TZOFFSETTO:+0100
TZNAME:CET
DTSTART:20261025T010000
END:STANDARD
BEGIN:DAYLIGHT
TZOFFSETFROM:+0100
TZOFFSETTO:+0200
TZNAME:CEST
DTSTART:20270328T010000
END:DAYLIGHT
BEGIN:STANDARD
TZOFFSETFROM:+0200
TZOFFSETTO:+0100
TZNAME:CET
DTSTART:20271031T010000
END:STANDARD
END:VTIMEZONE
BEGIN:VEVENT
DTSTART;TZID=Europe/Berlin:20261213T093000
DTEND;TZID=Europe/Berlin:20261213T110000
DTSTAMP:20260423T192549
CREATED:20251226T191106Z
LAST-MODIFIED:20251226T191106Z
UID:972-1797154200-1797159600@blaskapelle-lengfeld.de
SUMMARY:Gottesdienst 3. Advent
DESCRIPTION:Der Gottesdienst am 3.Advent wird durch die Blaskapelle musikalisch gestaltet
URL:https://blaskapelle-lengfeld.de/termin/gottesdienst-3-advent-2026/
LOCATION:St. Lioba\, Pilziggrundstraße 17\, Würzburg\, Bayern\, 97076\, Germany
END:VEVENT
BEGIN:VEVENT
DTSTART;TZID=Europe/Berlin:20261220T093000
DTEND;TZID=Europe/Berlin:20261220T110000
DTSTAMP:20260423T192549
CREATED:20251226T191151Z
LAST-MODIFIED:20251226T191151Z
UID:975-1797759000-1797764400@blaskapelle-lengfeld.de
SUMMARY:Gottesdienst 4. Advent
DESCRIPTION:Der Gottesdienst am 4.Advent im Ökumenischen Zentrum wird durch die Blaskapelle musikalisch gestaltet
URL:https://blaskapelle-lengfeld.de/termin/gottesdienst-4-advent-2026/
LOCATION:Ökumenisches Zentrum\, Am Schloßgarten 2-4\, Würzburg\, Bayern\, 97076\, Deutschland
END:VEVENT
END:VCALENDAR