BEGIN:VCALENDAR
VERSION:2.0
PRODID:-//Blaskapelle Lengfeld - ECPv6.15.20//NONSGML v1.0//EN
CALSCALE:GREGORIAN
METHOD:PUBLISH
X-ORIGINAL-URL:https://blaskapelle-lengfeld.de
X-WR-CALDESC:Veranstaltungen für Blaskapelle Lengfeld
REFRESH-INTERVAL;VALUE=DURATION:PT1H
X-Robots-Tag:noindex
X-PUBLISHED-TTL:PT1H
BEGIN:VTIMEZONE
TZID:Europe/Berlin
BEGIN:DAYLIGHT
TZOFFSETFROM:+0100
TZOFFSETTO:+0200
TZNAME:CEST
DTSTART:20250330T010000
END:DAYLIGHT
BEGIN:STANDARD
TZOFFSETFROM:+0200
TZOFFSETTO:+0100
TZNAME:CET
DTSTART:20251026T010000
END:STANDARD
BEGIN:DAYLIGHT
TZOFFSETFROM:+0100
TZOFFSETTO:+0200
TZNAME:CEST
DTSTART:20260329T010000
END:DAYLIGHT
BEGIN:STANDARD
TZOFFSETFROM:+0200
TZOFFSETTO:+0100
TZNAME:CET
DTSTART:20261025T010000
END:STANDARD
BEGIN:DAYLIGHT
TZOFFSETFROM:+0100
TZOFFSETTO:+0200
TZNAME:CEST
DTSTART:20270328T010000
END:DAYLIGHT
BEGIN:STANDARD
TZOFFSETFROM:+0200
TZOFFSETTO:+0100
TZNAME:CET
DTSTART:20271031T010000
END:STANDARD
END:VTIMEZONE
BEGIN:VEVENT
DTSTART;TZID=Europe/Berlin:20260704T123000
DTEND;TZID=Europe/Berlin:20260704T140000
DTSTAMP:20260423T152753
CREATED:20260228T125307Z
LAST-MODIFIED:20260228T125307Z
UID:993-1783168200-1783173600@blaskapelle-lengfeld.de
SUMMARY:Kilianifestzug
DESCRIPTION:Dieses Jahr sind wir wieder beim Kilianifestzug mit dabei! \nMarschweg:\nResidenzplatz – Theaterstraße – Juliuspromenade – Schönbornstraße – Domstraße – Alte Mainbrücke – Dreikronenstraße – Überquerung der Luitpoldstraße – Meinaustraße/Zugang zum Festplatz
URL:https://blaskapelle-lengfeld.de/termin/kilianifestzug-2026/
LOCATION:Würzburg\, Würzburg\, Bayern\, 97080\, Deutschland
END:VEVENT
BEGIN:VEVENT
DTSTART;TZID=Europe/Berlin:20260712T103000
DTEND;TZID=Europe/Berlin:20260712T120000
DTSTAMP:20260423T152753
CREATED:20251226T190817Z
LAST-MODIFIED:20251226T190817Z
UID:968-1783852200-1783857600@blaskapelle-lengfeld.de
SUMMARY:Gottesdienst im Grünen
DESCRIPTION:Die Blaskapelle Lengfeld gestaltet den Gottesdienst im Grünen musikalisch.
URL:https://blaskapelle-lengfeld.de/termin/gottesdienst-im-gruenen-2026/
LOCATION:Lengfeld\, Würzburg\, 97076\, Deutschland
END:VEVENT
BEGIN:VEVENT
DTSTART;TZID=Europe/Berlin:20260723T083000
DTEND;TZID=Europe/Berlin:20260723T143000
DTSTAMP:20260423T152753
CREATED:20251226T191532Z
LAST-MODIFIED:20251226T191532Z
UID:981-1784795400-1784817000@blaskapelle-lengfeld.de
SUMMARY:Frühschoppen Flusskreuzfahrt
DESCRIPTION:
URL:https://blaskapelle-lengfeld.de/termin/fruehschoppen-flusskreuzfahrt/
END:VEVENT
END:VCALENDAR