BEGIN:VCALENDAR
VERSION:2.0
PRODID:-//Blaskapelle Lengfeld - ECPv6.15.20//NONSGML v1.0//EN
CALSCALE:GREGORIAN
METHOD:PUBLISH
X-WR-CALNAME:Blaskapelle Lengfeld
X-ORIGINAL-URL:https://blaskapelle-lengfeld.de
X-WR-CALDESC:Veranstaltungen für Blaskapelle Lengfeld
REFRESH-INTERVAL;VALUE=DURATION:PT1H
X-Robots-Tag:noindex
X-PUBLISHED-TTL:PT1H
BEGIN:VTIMEZONE
TZID:Europe/Berlin
BEGIN:DAYLIGHT
TZOFFSETFROM:+0100
TZOFFSETTO:+0200
TZNAME:CEST
DTSTART:20250330T010000
END:DAYLIGHT
BEGIN:STANDARD
TZOFFSETFROM:+0200
TZOFFSETTO:+0100
TZNAME:CET
DTSTART:20251026T010000
END:STANDARD
BEGIN:DAYLIGHT
TZOFFSETFROM:+0100
TZOFFSETTO:+0200
TZNAME:CEST
DTSTART:20260329T010000
END:DAYLIGHT
BEGIN:STANDARD
TZOFFSETFROM:+0200
TZOFFSETTO:+0100
TZNAME:CET
DTSTART:20261025T010000
END:STANDARD
BEGIN:DAYLIGHT
TZOFFSETFROM:+0100
TZOFFSETTO:+0200
TZNAME:CEST
DTSTART:20270328T010000
END:DAYLIGHT
BEGIN:STANDARD
TZOFFSETFROM:+0200
TZOFFSETTO:+0100
TZNAME:CET
DTSTART:20271031T010000
END:STANDARD
END:VTIMEZONE
BEGIN:VEVENT
DTSTART;TZID=Europe/Berlin:20260501T150000
DTEND;TZID=Europe/Berlin:20260501T170000
DTSTAMP:20260423T130034
CREATED:20260403T184249Z
LAST-MODIFIED:20260403T184249Z
UID:1005-1777647600-1777654800@blaskapelle-lengfeld.de
SUMMARY:Lengfelder Maibaumfest
DESCRIPTION:Die Blaskapelle Lengfeld gestaltet das Lengfelder Maibaumfest musikalisch.
URL:https://blaskapelle-lengfeld.de/termin/lengfelder-maibaumfest-2026/
LOCATION:Lengfeld\, Würzburg\, 97076\, Deutschland
ORGANIZER;CN="Werbegemeinschaft 'Lengfeld hat Herz und Schwung' e.V.":MAILTO:info@lengfeld.info
END:VEVENT
BEGIN:VEVENT
DTSTART;TZID=Europe/Berlin:20260510T090000
DTEND;TZID=Europe/Berlin:20260510T140000
DTSTAMP:20260423T130035
CREATED:20260327T214414Z
LAST-MODIFIED:20260327T214414Z
UID:1002-1778403600-1778421600@blaskapelle-lengfeld.de
SUMMARY:Feuerwehrfest
DESCRIPTION:Die Blaskapelle Lengfeld begleitet die Kirchenparade musikalisch und spielt anschließend zum Frühschoppen.
URL:https://blaskapelle-lengfeld.de/termin/feuerwehrfest-2026/
LOCATION:Lengfeld\, Würzburg\, 97076\, Deutschland
END:VEVENT
BEGIN:VEVENT
DTSTART;TZID=Europe/Berlin:20260523T123000
DTEND;TZID=Europe/Berlin:20260523T140000
DTSTAMP:20260423T130035
CREATED:20260228T125200Z
LAST-MODIFIED:20260228T125200Z
UID:991-1779539400-1779544800@blaskapelle-lengfeld.de
SUMMARY:Hochzeit - Umzug & Sektempfang
DESCRIPTION:
URL:https://blaskapelle-lengfeld.de/termin/hochzeit-umzug-sektempfang-2026/
LOCATION:Lengfeld\, Würzburg\, 97076\, Deutschland
END:VEVENT
END:VCALENDAR